PDS_VERSION_ID = PDS3
/* Identification Information */
NOT_APPLICABLE_CONSTANT = -9998
DATA_SET_ID = "MRO-M-HIRISE-3-RDR-V1.0"
DATA_SET_NAME = "MRO MARS HIGH RESOLUTION IMAGING SCIENCE EXPERIMENT RDR V1.0"
PRODUCER_INSTITUTION_NAME = "UNIVERSITY OF ARIZONA"
PRODUCER_ID = "UA"
PRODUCER_FULL_NAME = "ALFRED MCEWEN"
OBSERVATION_ID = "PSP_001379_2680"
PRODUCT_ID = "PSP_001379_2680_COLOR"
PRODUCT_VERSION_ID = "1.0"
INSTRUMENT_HOST_NAME = "MARS RECONNAISSANCE ORBITER"
INSTRUMENT_HOST_ID = "MRO"
INSTRUMENT_NAME = "HIGH RESOLUTION IMAGING SCIENCE EXPERIMENT"
INSTRUMENT_ID = "HIRISE"
TARGET_NAME = "MARS"
MISSION_PHASE_NAME = "PRIMARY SCIENCE PHASE"
ORBIT_NUMBER = 1379
SOURCE_PRODUCT_ID = (PSP_001379_2680_BG12_1, PSP_001379_2680_BG12_0, PSP_001379_2680_RED4_1, PSP_001379_2680_RED4_0, PSP_001379_2680_IR10_0, PSP_001379_2680_BG13_1, PSP_001379_2680_BG13_0, PSP_001379_2680_RED5_1, PSP_001379_2680_RED5_0, PSP_001379_2680_IR11_1, PSP_001379_2680_IR11_0)
RATIONALE_DESC = "Exposure of polar layered deposits not well covered by Mars Global Surveyor"
SOFTWARE_NAME = "PDS_to_JP2 (1.29 2007/09/07 02:24:39)"
OBJECT = IMAGE_MAP_PROJECTION
  ^DATA_SET_MAP_PROJECTION = "DSMAP.CAT"
  MAP_PROJECTION_TYPE = "POLAR STEREOGRAPHIC"
  PROJECTION_LATITUDE_TYPE = PLANETOCENTRIC
  A_AXIS_RADIUS = 3396.190000
  B_AXIS_RADIUS = 3396.190000
  C_AXIS_RADIUS = 3376.200000
  COORDINATE_SYSTEM_NAME = PLANETOCENTRIC
  POSITIVE_LONGITUDE_DIRECTION = EAST
  KEYWORD_LATITUDE_TYPE = PLANETOCENTRIC
  /* NOTE: CENTER_LATITUDE and CENTER_LONGITUDE describe the location */
  /* of the center of projection, which is not necessarily equal to the */
  /* location of the center point of the image. */
  CENTER_LATITUDE = 90.000000
  CENTER_LONGITUDE = 0.000000
  LINE_FIRST_PIXEL = 1
  LINE_LAST_PIXEL = 20194
  SAMPLE_FIRST_PIXEL = 1
  SAMPLE_LAST_PIXEL = 19424
  MAP_PROJECTION_ROTATION = 0.000000
  MAP_RESOLUTION = 117851.612412
  MAP_SCALE = 0.5000
  MAXIMUM_LATITUDE = 88.076793
  MINIMUM_LATITUDE = 88.046586
  LINE_PROJECTION_OFFSET = 173223.50000
  SAMPLE_PROJECTION_OFFSET = -149772.50000
  EASTERNMOST_LONGITUDE = 138.856649
  WESTERNMOST_LONGITUDE = 132.448396
END_OBJECT = IMAGE_MAP_PROJECTION
/* All xxx_COUNT values are for the MRO spacecraft clock (SCLK) */
/* in seconds:subseconds form. A subsecond tick = 15.2588 microseconds. */
/* All xxx_TIME values are referenced to UTC. */
GROUP = TIME_PARAMETERS
  /* Time when the observation first started */
  MRO:OBSERVATION_START_TIME = 2006-11-11T22:44:46.134
  /* Time of the first image line */
  START_TIME = 2006-11-11T22:44:46.222
  SPACECRAFT_CLOCK_START_COUNT = "847752305:03697"
  /* Time of the last image line */
  STOP_TIME = 2006-11-11T22:44:50.618
  SPACECRAFT_CLOCK_STOP_COUNT = "847752309:25651"
  /* Time when this RDR product was created */
  PRODUCT_CREATION_TIME = 2007-11-09T16:26:58.0
END_GROUP = TIME_PARAMETERS
GROUP = INSTRUMENT_SETTING_PARAMETERS
  MRO:CCD_FLAG = (ON, ON, ON, ON, ON, ON, ON, ON, ON, ON, ON, ON, ON, ON)
  MRO:BINNING = (-9998, -9998, -9998, -9998, 2, 2, -9998, -9998, -9998, -9998, 4, 4, 4, 4)
  MRO:TDI = (-9998, -9998, -9998, -9998, 32, 32, -9998, -9998, -9998, -9998, 32, 32, 32, 32)
  MRO:SPECIAL_PROCESSING_FLAG = (NULL, NULL, NULL, NULL, NOMINAL, NULL, NULL, NULL, NULL, NULL, NOMINAL, NULL, NOMINAL, NULL)
END_GROUP = INSTRUMENT_SETTING_PARAMETERS
GROUP = VIEWING_PARAMETERS
  INCIDENCE_ANGLE = 70.597358
  EMISSION_ANGLE = 7.366236
  PHASE_ANGLE = 64.871615
  LOCAL_TIME = 9.65666
  SOLAR_LONGITUDE = 134.025610
  SUB_SOLAR_AZIMUTH = 278.819742
  NORTH_AZIMUTH = 134.347477
END_GROUP = VIEWING_PARAMETERS
/* The JPEG2000 image data file associated with this label. */
OBJECT = COMPRESSED_FILE
  FILE_NAME = "PSP_001379_2680_COLOR.JP2"
  RECORD_TYPE = UNDEFINED
  ENCODING_TYPE = "JP2"
  ENCODING_TYPE_VERSION_NAME = "ISO/IEC15444-1:2004"
  INTERCHANGE_FORMAT = BINARY
  /* The name of the original source file. */
  UNCOMPRESSED_FILE_NAME = "PSP_001379_2680_COLOR.IMG"
  /* The amount of original image data. */
  REQUIRED_STORAGE_BYTES = 2353489536
  ^DESCRIPTION = "JP2INFO.TXT"
END_OBJECT = COMPRESSED_FILE
/* The source image data definition. */
OBJECT = UNCOMPRESSED_FILE
  FILE_NAME = "PSP_001379_2680_COLOR.IMG"
  RECORD_TYPE = FIXED_LENGTH
  RECORD_BYTES = 38848
  FILE_RECORDS = 60582
  ^IMAGE = "PSP_001379_2680_COLOR.IMG"
  OBJECT = IMAGE
    DESCRIPTION = "HiRISE projected and mosaicked product"
    LINES = 20194
    LINE_SAMPLES = 19424
    BANDS = 3
    SAMPLE_TYPE = MSB_UNSIGNED_INTEGER
    SAMPLE_BITS = 16
    SAMPLE_BIT_MASK = 2#0000001111111111#
    /* NOTE: The conversion from DN to I/F (intensity/flux) is: */
    /* I/F = (DN * SCALING_FACTOR) + OFFSET */
    /* I/F is defined as the ratio of the observed radiance and */
    /* the radiance of a 100% lambertian reflector with the sun */
    /* and camera orthogonal to the observing surface. */
    SCALING_FACTOR = 1.20925044883425e-04
    OFFSET = 0.039450103572286
    BAND_STORAGE_TYPE = BAND_SEQUENTIAL
    CORE_NULL = 0
    CORE_LOW_REPR_SATURATION = 1
    CORE_LOW_INSTR_SATURATION = 2
    CORE_HIGH_REPR_SATURATION = 1023
    CORE_HIGH_INSTR_SATURATION = 1022
    CENTER_FILTER_WAVELENGTH = (900, 700, 500)
    MRO:MINIMUM_STRETCH = (396, 232, 3)
    MRO:MAXIMUM_STRETCH = (973, 1021, 755)
    FILTER_NAME = ("NEAR-INFRARED", "RED", "BLUE-GREEN")
  END_OBJECT = IMAGE
END_OBJECT = UNCOMPRESSED_FILE
END
