PDS_VERSION_ID = PDS3
/* Identification Information */
NOT_APPLICABLE_CONSTANT = -9998
DATA_SET_ID = "MRO-M-HIRISE-3-RDR-V1.0"
DATA_SET_NAME = "MRO MARS HIGH RESOLUTION IMAGING SCIENCE EXPERIMENT RDR V1.0"
PRODUCER_INSTITUTION_NAME = "UNIVERSITY OF ARIZONA"
PRODUCER_ID = "UA"
PRODUCER_FULL_NAME = "ALFRED MCEWEN"
OBSERVATION_ID = "PSP_001390_2290"
PRODUCT_ID = "PSP_001390_2290_RED"
PRODUCT_VERSION_ID = "1.0"
INSTRUMENT_HOST_NAME = "MARS RECONNAISSANCE ORBITER"
INSTRUMENT_HOST_ID = "MRO"
INSTRUMENT_NAME = "HIGH RESOLUTION IMAGING SCIENCE EXPERIMENT"
INSTRUMENT_ID = "HIRISE"
TARGET_NAME = "MARS"
MISSION_PHASE_NAME = "PRIMARY SCIENCE PHASE"
ORBIT_NUMBER = 1390
SOURCE_PRODUCT_ID = (PSP_001390_2290_RED0_1, PSP_001390_2290_RED0_0, PSP_001390_2290_RED1_1, PSP_001390_2290_RED1_0, PSP_001390_2290_RED2_1, PSP_001390_2290_RED2_0, PSP_001390_2290_RED3_1, PSP_001390_2290_RED3_0, PSP_001390_2290_RED4_1, PSP_001390_2290_RED4_0, PSP_001390_2290_RED5_1, PSP_001390_2290_RED5_0, PSP_001390_2290_RED6_1, PSP_001390_2290_RED6_0, PSP_001390_2290_RED7_1, PSP_001390_2290_RED7_0, PSP_001390_2290_RED8_1, PSP_001390_2290_RED8_0, PSP_001390_2290_RED9_1, PSP_001390_2290_RED9_0)
RATIONALE_DESC = "Debris aprons with ridge-like structures"
SOFTWARE_NAME = "Isis 3.1.11 | 2007-04-20 hirdrgen"
OBJECT = IMAGE_MAP_PROJECTION
  ^DATA_SET_MAP_PROJECTION = "DSMAP.CAT"
  MAP_PROJECTION_TYPE = "EQUIRECTANGULAR"
  PROJECTION_LATITUDE_TYPE = PLANETOCENTRIC
  /* NOTE: The EQUIRECTANGULAR projection is based on the formula */
  /* for a sphere. To eliminate confusion in the */
  /* IMAGE_MAP_PROJECTION object we have set all three radii, */
  /* A_AXIS_RADIUS, B_AXIS_RADIUS, and C_AXIS_RADIUS to the same */
  /* number. The value recorded in the three radii is the local */
  /* radius at the CENTER_LATITUDE on the Mars ellipsoid. That is, */
  /* equatorial radius of 3396.190000 km and polar radius of */
  /* 3376.200000 kilometers. Using the local radius of the */
  /* ellipsoid implies that the MAP_SCALE and MAP_RESOLUTION are */
  /* true at the CENTER_LATITUDE. */
  A_AXIS_RADIUS = 3386.150747
  B_AXIS_RADIUS = 3386.150747
  C_AXIS_RADIUS = 3386.150747
  COORDINATE_SYSTEM_NAME = PLANETOCENTRIC
  POSITIVE_LONGITUDE_DIRECTION = EAST
  KEYWORD_LATITUDE_TYPE = PLANETOCENTRIC
  /* NOTE: CENTER_LATITUDE and CENTER_LONGITUDE describe the location */
  /* of the center of projection, which is not necessarily equal to the */
  /* location of the center point of the image. */
  CENTER_LATITUDE = 45.000000
  CENTER_LONGITUDE = 283.882000
  LINE_FIRST_PIXEL = 1
  LINE_LAST_PIXEL = 38628
  SAMPLE_FIRST_PIXEL = 1
  SAMPLE_LAST_PIXEL = 30282
  MAP_PROJECTION_ROTATION = 0.000000
  MAP_RESOLUTION = 236397.918016
  MAP_SCALE = 0.2500
  MAXIMUM_LATITUDE = 48.960528
  MINIMUM_LATITUDE = 48.797140
  LINE_PROJECTION_OFFSET = 11574169.50000
  SAMPLE_PROJECTION_OFFSET = 15193.50000
  EASTERNMOST_LONGITUDE = 283.972258
  WESTERNMOST_LONGITUDE = 283.791123
END_OBJECT = IMAGE_MAP_PROJECTION
/* All xxx_COUNT values are for the MRO spacecraft clock (SCLK) */
/* in seconds:subseconds form. A subsecond tick = 15.2588 microseconds. */
/* All xxx_TIME values are referenced to UTC. */
GROUP = TIME_PARAMETERS
  /* Time when the observation first started */
  MRO:OBSERVATION_START_TIME = 2006-11-12T19:05:11.418
  /* Time of the first image line */
  START_TIME = 2006-11-12T19:05:11.568
  SPACECRAFT_CLOCK_START_COUNT = "847825530:26408"
  /* Time of the last image line */
  STOP_TIME = 2006-11-12T19:05:14.518
  SPACECRAFT_CLOCK_STOP_COUNT = "847825533:23187"
  /* Time when this RDR product was created */
  PRODUCT_CREATION_TIME = 2007-05-22T20:11:58.0
END_GROUP = TIME_PARAMETERS
GROUP = INSTRUMENT_SETTING_PARAMETERS
  MRO:CCD_FLAG = (ON, ON, ON, ON, ON, ON, ON, ON, ON, ON, ON, ON, ON, ON)
  MRO:BINNING = (2, 2, 2, 2, 1, 1, 1, 2, 2, 2, -9998, -9998, -9998, -9998)
  MRO:TDI = (64, 64, 64, 64, 128, 128, 128, 64, 64, 64, -9998, -9998, -9998, -9998)
  MRO:SPECIAL_PROCESSING_FLAG = (NOMINAL, NOMINAL, NOMINAL, NOMINAL, NOMINAL, NOMINAL, NOMINAL, NOMINAL, NOMINAL, NOMINAL, NULL, NULL, NULL, NULL)
END_GROUP = INSTRUMENT_SETTING_PARAMETERS
GROUP = VIEWING_PARAMETERS
  INCIDENCE_ANGLE = 50.857406
  EMISSION_ANGLE = 2.642245
  PHASE_ANGLE = 48.403534
  LOCAL_TIME = 15.33672
  SOLAR_LONGITUDE = 134.438485
  SUB_SOLAR_AZIMUTH = 161.617754
  NORTH_AZIMUTH = 270.000000
END_GROUP = VIEWING_PARAMETERS
/* The JPEG2000 image data file associated with this label. */
OBJECT = COMPRESSED_FILE
  FILE_NAME = "PSP_001390_2290_RED.JP2"
  RECORD_TYPE = UNDEFINED
  ENCODING_TYPE = "JP2"
  ENCODING_TYPE_VERSION_NAME = "ISO/IEC15444-1:2004"
  INTERCHANGE_FORMAT = BINARY
  /* The name of the original source file. */
  UNCOMPRESSED_FILE_NAME = "PSP_001390_2290_RED.IMG"
  /* The amount of original image data. */
  REQUIRED_STORAGE_BYTES = 2339466192
  ^DESCRIPTION = "JP2INFO.TXT"
END_OBJECT = COMPRESSED_FILE
/* The source image data definition. */
OBJECT = UNCOMPRESSED_FILE
  FILE_NAME = "PSP_001390_2290_RED.IMG"
  RECORD_TYPE = FIXED_LENGTH
  RECORD_BYTES = 60564
  FILE_RECORDS = 38628
  ^IMAGE = "PSP_001390_2290_RED.IMG"
  OBJECT = IMAGE
    DESCRIPTION = "HiRISE projected and mosaicked product"
    LINES = 38628
    LINE_SAMPLES = 30282
    BANDS = 1
    SAMPLE_TYPE = MSB_UNSIGNED_INTEGER
    SAMPLE_BITS = 16
    SAMPLE_BIT_MASK = 2#0000001111111111#
    /* NOTE: The conversion from DN to I/F (intensity/flux) is: */
    /* I/F = (DN * SCALING_FACTOR) + OFFSET */
    /* I/F is defined as the ratio of the observed radiance and */
    /* the radiance of a 100% lambertian reflector with the sun */
    /* and camera orthogonal to the observing surface. */
    SCALING_FACTOR = 1.40468259315951e-04
    OFFSET = 0.05289900609523
    BAND_STORAGE_TYPE = BAND_SEQUENTIAL
    CORE_NULL = 0
    CORE_LOW_REPR_SATURATION = 1
    CORE_LOW_INSTR_SATURATION = 2
    CORE_HIGH_REPR_SATURATION = 1023
    CORE_HIGH_INSTR_SATURATION = 1022
    CENTER_FILTER_WAVELENGTH = 700
    MRO:MINIMUM_STRETCH = 3
    MRO:MAXIMUM_STRETCH = 1021
    FILTER_NAME = "RED"
  END_OBJECT = IMAGE
END_OBJECT = UNCOMPRESSED_FILE
END
