PDS_VERSION_ID = PDS3
/* Identification Information */
NOT_APPLICABLE_CONSTANT = -9998
DATA_SET_ID = "MRO-M-HIRISE-3-RDR-V1.0"
DATA_SET_NAME = "MRO MARS HIGH RESOLUTION IMAGING SCIENCE EXPERIMENT RDR V1.0"
PRODUCER_INSTITUTION_NAME = "UNIVERSITY OF ARIZONA"
PRODUCER_ID = "UA"
PRODUCER_FULL_NAME = "ALFRED MCEWEN"
OBSERVATION_ID = "PSP_002651_0930"
PRODUCT_ID = "PSP_002651_0930_RED"
PRODUCT_VERSION_ID = "1.0"
INSTRUMENT_HOST_NAME = "MARS RECONNAISSANCE ORBITER"
INSTRUMENT_HOST_ID = "MRO"
INSTRUMENT_NAME = "HIGH RESOLUTION IMAGING SCIENCE EXPERIMENT"
INSTRUMENT_ID = "HIRISE"
TARGET_NAME = "MARS"
MISSION_PHASE_NAME = "PRIMARY SCIENCE PHASE"
ORBIT_NUMBER = 2651
SOURCE_PRODUCT_ID = (PSP_002651_0930_RED0_1, PSP_002651_0930_RED0_0, PSP_002651_0930_RED1_1, PSP_002651_0930_RED1_0, PSP_002651_0930_RED2_1, PSP_002651_0930_RED2_0, PSP_002651_0930_RED3_1, PSP_002651_0930_RED3_0, PSP_002651_0930_RED4_1, PSP_002651_0930_RED4_0, PSP_002651_0930_RED5_1, PSP_002651_0930_RED5_0, PSP_002651_0930_RED6_1, PSP_002651_0930_RED6_0, PSP_002651_0930_RED7_1, PSP_002651_0930_RED7_0, PSP_002651_0930_RED8_1, PSP_002651_0930_RED8_0, PSP_002651_0930_RED9_1, PSP_002651_0930_RED9_0)
RATIONALE_DESC = "Sublimation processes and spider evolution "
SOFTWARE_NAME = "Isis 3.1.11 | 2007-04-20 hirdrgen"
OBJECT = IMAGE_MAP_PROJECTION
  ^DATA_SET_MAP_PROJECTION = "DSMAP.CAT"
  MAP_PROJECTION_TYPE = "POLAR STEREOGRAPHIC"
  PROJECTION_LATITUDE_TYPE = PLANETOCENTRIC
  A_AXIS_RADIUS = 3396.190000
  B_AXIS_RADIUS = 3396.190000
  C_AXIS_RADIUS = 3376.200000
  COORDINATE_SYSTEM_NAME = PLANETOCENTRIC
  POSITIVE_LONGITUDE_DIRECTION = EAST
  KEYWORD_LATITUDE_TYPE = PLANETOCENTRIC
  /* NOTE: CENTER_LATITUDE and CENTER_LONGITUDE describe the location */
  /* of the center of projection, which is not necessarily equal to the */
  /* location of the center point of the image. */
  CENTER_LATITUDE = -90.000000
  CENTER_LONGITUDE = 0.000000
  LINE_FIRST_PIXEL = 1
  LINE_LAST_PIXEL = 24816
  SAMPLE_FIRST_PIXEL = 1
  SAMPLE_LAST_PIXEL = 65400
  MAP_PROJECTION_ROTATION = 0.000000
  MAP_RESOLUTION = 117851.612412
  MAP_SCALE = 0.5000
  MAXIMUM_LATITUDE = -86.583213
  MINIMUM_LATITUDE = -87.131613
  LINE_PROJECTION_OFFSET = -34076.50000
  SAMPLE_PROJECTION_OFFSET = -334794.50000
  EASTERNMOST_LONGITUDE = 99.907998
  WESTERNMOST_LONGITUDE = 94.896115
END_OBJECT = IMAGE_MAP_PROJECTION
/* All xxx_COUNT values are for the MRO spacecraft clock (SCLK) */
/* in seconds:subseconds form. A subsecond tick = 15.2588 microseconds. */
/* All xxx_TIME values are referenced to UTC. */
GROUP = TIME_PARAMETERS
  /* Time when the observation first started */
  MRO:OBSERVATION_START_TIME = 2007-02-18T23:59:30.496
  /* Time of the first image line */
  START_TIME = 2007-02-18T23:59:30.641
  SPACECRAFT_CLOCK_START_COUNT = "856310389:36120"
  /* Time of the last image line */
  STOP_TIME = 2007-02-18T23:59:40.738
  SPACECRAFT_CLOCK_STOP_COUNT = "856310399:42492"
  /* Time when this RDR product was created */
  PRODUCT_CREATION_TIME = 2007-05-23T20:44:19.0
END_GROUP = TIME_PARAMETERS
GROUP = INSTRUMENT_SETTING_PARAMETERS
  MRO:CCD_FLAG = (ON, ON, ON, ON, ON, ON, ON, ON, ON, ON, ON, ON, ON, ON)
  MRO:BINNING = (2, 2, 2, 2, 2, 2, 2, 2, 2, 2, -9998, -9998, -9998, -9998)
  MRO:TDI = (128, 128, 128, 128, 128, 128, 128, 128, 128, 128, -9998, -9998, -9998, -9998)
  MRO:SPECIAL_PROCESSING_FLAG = (CUBENORM, CUBENORM, CUBENORM, CUBENORM, CUBENORM, CUBENORM, CUBENORM, CUBENORM, CUBENORM, CUBENORM, NULL, NULL, NULL, NULL)
END_GROUP = INSTRUMENT_SETTING_PARAMETERS
GROUP = VIEWING_PARAMETERS
  INCIDENCE_ANGLE = 86.437132
  EMISSION_ANGLE = 24.084488
  PHASE_ANGLE = 106.174071
  LOCAL_TIME = 16.94891
  SOLAR_LONGITUDE = 186.386867
  SUB_SOLAR_AZIMUTH = 293.002423
  NORTH_AZIMUTH = 7.402056
END_GROUP = VIEWING_PARAMETERS
/* The JPEG2000 image data file associated with this label. */
OBJECT = COMPRESSED_FILE
  FILE_NAME = "PSP_002651_0930_RED.JP2"
  RECORD_TYPE = UNDEFINED
  ENCODING_TYPE = "JP2"
  ENCODING_TYPE_VERSION_NAME = "ISO/IEC15444-1:2004"
  INTERCHANGE_FORMAT = BINARY
  /* The name of the original source file. */
  UNCOMPRESSED_FILE_NAME = "PSP_002651_0930_RED.IMG"
  /* The amount of original image data. */
  REQUIRED_STORAGE_BYTES = 3245932800
  ^DESCRIPTION = "JP2INFO.TXT"
END_OBJECT = COMPRESSED_FILE
/* The source image data definition. */
OBJECT = UNCOMPRESSED_FILE
  FILE_NAME = "PSP_002651_0930_RED.IMG"
  RECORD_TYPE = FIXED_LENGTH
  RECORD_BYTES = 130800
  FILE_RECORDS = 24816
  ^IMAGE = "PSP_002651_0930_RED.IMG"
  OBJECT = IMAGE
    DESCRIPTION = "HiRISE projected and mosaicked product"
    LINES = 24816
    LINE_SAMPLES = 65400
    BANDS = 1
    SAMPLE_TYPE = MSB_UNSIGNED_INTEGER
    SAMPLE_BITS = 16
    SAMPLE_BIT_MASK = 2#0000001111111111#
    /* NOTE: The conversion from DN to I/F (intensity/flux) is: */
    /* I/F = (DN * SCALING_FACTOR) + OFFSET */
    /* I/F is defined as the ratio of the observed radiance and */
    /* the radiance of a 100% lambertian reflector with the sun */
    /* and camera orthogonal to the observing surface. */
    SCALING_FACTOR = 1.54951377951794e-05
    OFFSET = 0.02028349520292
    BAND_STORAGE_TYPE = BAND_SEQUENTIAL
    CORE_NULL = 0
    CORE_LOW_REPR_SATURATION = 1
    CORE_LOW_INSTR_SATURATION = 2
    CORE_HIGH_REPR_SATURATION = 1023
    CORE_HIGH_INSTR_SATURATION = 1022
    CENTER_FILTER_WAVELENGTH = 700
    MRO:MINIMUM_STRETCH = 3
    MRO:MAXIMUM_STRETCH = 1021
    FILTER_NAME = "RED"
  END_OBJECT = IMAGE
END_OBJECT = UNCOMPRESSED_FILE
END
