PDS_VERSION_ID = PDS3
/* Identification Information */
NOT_APPLICABLE_CONSTANT = -9998
DATA_SET_ID = "MRO-M-HIRISE-3-RDR-V1.0"
DATA_SET_NAME = "MRO MARS HIGH RESOLUTION IMAGING SCIENCE EXPERIMENT RDR V1.0"
PRODUCER_INSTITUTION_NAME = "UNIVERSITY OF ARIZONA"
PRODUCER_ID = "UA"
PRODUCER_FULL_NAME = "ALFRED MCEWEN"
OBSERVATION_ID = "TRA_000823_1720"
PRODUCT_ID = "TRA_000823_1720_COLOR"
PRODUCT_VERSION_ID = "1.0"
INSTRUMENT_HOST_NAME = "MARS RECONNAISSANCE ORBITER"
INSTRUMENT_HOST_ID = "MRO"
INSTRUMENT_NAME = "HIGH RESOLUTION IMAGING SCIENCE EXPERIMENT"
INSTRUMENT_ID = "HIRISE"
TARGET_NAME = "MARS"
MISSION_PHASE_NAME = "TRANSITION"
ORBIT_NUMBER = 823
SOURCE_PRODUCT_ID = (TRA_000823_1720_BG12_1, TRA_000823_1720_BG12_0, TRA_000823_1720_RED4_1, TRA_000823_1720_RED4_0, TRA_000823_1720_IR10_0, TRA_000823_1720_BG13_1, TRA_000823_1720_BG13_0, TRA_000823_1720_RED5_1, TRA_000823_1720_RED5_0, TRA_000823_1720_IR11_1, TRA_000823_1720_IR11_0)
RATIONALE_DESC = "Layered deposits in Ius Chasma floor"
SOFTWARE_NAME = "PDS_to_JP2 (1.29 2007/09/07 02:24:39)"
OBJECT = IMAGE_MAP_PROJECTION
  ^DATA_SET_MAP_PROJECTION = "DSMAP.CAT"
  MAP_PROJECTION_TYPE = "EQUIRECTANGULAR"
  PROJECTION_LATITUDE_TYPE = PLANETOCENTRIC
  /* NOTE: The EQUIRECTANGULAR projection is based on the formula */
  /* for a sphere. To eliminate confusion in the */
  /* IMAGE_MAP_PROJECTION object we have set all three radii, */
  /* A_AXIS_RADIUS, B_AXIS_RADIUS, and C_AXIS_RADIUS to the same */
  /* number. The value recorded in the three radii is the local */
  /* radius at the CENTER_LATITUDE on the Mars ellipsoid. That is, */
  /* equatorial radius of 3396.190000 km and polar radius of */
  /* 3376.200000 kilometers. Using the local radius of the */
  /* ellipsoid implies that the MAP_SCALE and MAP_RESOLUTION are */
  /* true at the CENTER_LATITUDE. */
  A_AXIS_RADIUS = 3396.036813
  B_AXIS_RADIUS = 3396.036813
  C_AXIS_RADIUS = 3396.036813
  COORDINATE_SYSTEM_NAME = PLANETOCENTRIC
  POSITIVE_LONGITUDE_DIRECTION = EAST
  KEYWORD_LATITUDE_TYPE = PLANETOCENTRIC
  /* NOTE: CENTER_LATITUDE and CENTER_LONGITUDE describe the location */
  /* of the center of projection, which is not necessarily equal to the */
  /* location of the center point of the image. */
  CENTER_LATITUDE = -5.000000
  CENTER_LONGITUDE = 279.497000
  LINE_FIRST_PIXEL = 1
  LINE_LAST_PIXEL = 21488
  SAMPLE_FIRST_PIXEL = 1
  SAMPLE_LAST_PIXEL = 6846
  MAP_PROJECTION_ROTATION = 0.000000
  MAP_RESOLUTION = 237088.095595
  MAP_SCALE = 0.2500
  MAXIMUM_LATITUDE = -7.697787
  MINIMUM_LATITUDE = -7.788416
  LINE_PROJECTION_OFFSET = -1825052.50000
  SAMPLE_PROJECTION_OFFSET = 3337.50000
  EASTERNMOST_LONGITUDE = 279.511856
  WESTERNMOST_LONGITUDE = 279.482876
END_OBJECT = IMAGE_MAP_PROJECTION
/* All xxx_COUNT values are for the MRO spacecraft clock (SCLK) */
/* in seconds:subseconds form. A subsecond tick = 15.2588 microseconds. */
/* All xxx_TIME values are referenced to UTC. */
GROUP = TIME_PARAMETERS
  /* Time when the observation first started */
  MRO:OBSERVATION_START_TIME = 2006-09-29T15:16:33.204
  /* Time of the first image line */
  START_TIME = 2006-09-29T15:16:33.275
  SPACECRAFT_CLOCK_START_COUNT = "844010212:05520"
  /* Time of the last image line */
  STOP_TIME = 2006-09-29T15:16:35.149
  SPACECRAFT_CLOCK_STOP_COUNT = "844010213:59520"
  /* Time when this RDR product was created */
  PRODUCT_CREATION_TIME = 2007-11-09T20:37:48.0
END_GROUP = TIME_PARAMETERS
GROUP = INSTRUMENT_SETTING_PARAMETERS
  MRO:CCD_FLAG = (ON, ON, ON, ON, ON, ON, ON, ON, ON, ON, ON, ON, ON, ON)
  MRO:BINNING = (-9998, -9998, -9998, -9998, 1, 1, -9998, -9998, -9998, -9998, 2, 2, 2, 4)
  MRO:TDI = (-9998, -9998, -9998, -9998, 128, 128, -9998, -9998, -9998, -9998, 128, 128, 128, 32)
  MRO:SPECIAL_PROCESSING_FLAG = (NULL, NULL, NULL, NULL, NOMINAL, NULL, NULL, NULL, NULL, NULL, NOMINAL, NULL, NOMINAL, NULL)
END_GROUP = INSTRUMENT_SETTING_PARAMETERS
GROUP = VIEWING_PARAMETERS
  INCIDENCE_ANGLE = 59.635866
  EMISSION_ANGLE = 0.053853
  PHASE_ANGLE = 59.643048
  LOCAL_TIME = 15.48579
  SOLAR_LONGITUDE = 113.547466
  SUB_SOLAR_AZIMUTH = 212.278641
  NORTH_AZIMUTH = 270.000000
END_GROUP = VIEWING_PARAMETERS
/* The JPEG2000 image data file associated with this label. */
OBJECT = COMPRESSED_FILE
  FILE_NAME = "TRA_000823_1720_COLOR.JP2"
  RECORD_TYPE = UNDEFINED
  ENCODING_TYPE = "JP2"
  ENCODING_TYPE_VERSION_NAME = "ISO/IEC15444-1:2004"
  INTERCHANGE_FORMAT = BINARY
  /* The name of the original source file. */
  UNCOMPRESSED_FILE_NAME = "TRA_000823_1720_COLOR.IMG"
  /* The amount of original image data. */
  REQUIRED_STORAGE_BYTES = 882641088
  ^DESCRIPTION = "JP2INFO.TXT"
END_OBJECT = COMPRESSED_FILE
/* The source image data definition. */
OBJECT = UNCOMPRESSED_FILE
  FILE_NAME = "TRA_000823_1720_COLOR.IMG"
  RECORD_TYPE = FIXED_LENGTH
  RECORD_BYTES = 13692
  FILE_RECORDS = 21488
  ^IMAGE = "TRA_000823_1720_COLOR.IMG"
  OBJECT = IMAGE
    DESCRIPTION = "HiRISE projected and mosaicked product"
    LINES = 21488
    LINE_SAMPLES = 6846
    BANDS = 3
    SAMPLE_TYPE = MSB_UNSIGNED_INTEGER
    SAMPLE_BITS = 16
    SAMPLE_BIT_MASK = 2#0000001111111111#
    /* NOTE: The conversion from DN to I/F (intensity/flux) is: */
    /* I/F = (DN * SCALING_FACTOR) + OFFSET */
    /* I/F is defined as the ratio of the observed radiance and */
    /* the radiance of a 100% lambertian reflector with the sun */
    /* and camera orthogonal to the observing surface. */
    SCALING_FACTOR = 1.23848655788176e-04
    OFFSET = 0.03543486133433
    BAND_STORAGE_TYPE = BAND_SEQUENTIAL
    CORE_NULL = 0
    CORE_LOW_REPR_SATURATION = 1
    CORE_LOW_INSTR_SATURATION = 2
    CORE_HIGH_REPR_SATURATION = 1023
    CORE_HIGH_INSTR_SATURATION = 1022
    CENTER_FILTER_WAVELENGTH = (900, 700, 500)
    MRO:MINIMUM_STRETCH = (242, 175, 3)
    MRO:MAXIMUM_STRETCH = (1021, 897, 292)
    FILTER_NAME = ("NEAR-INFRARED", "RED", "BLUE-GREEN")
  END_OBJECT = IMAGE
END_OBJECT = UNCOMPRESSED_FILE
END
