PDS_VERSION_ID = PDS3
/* Identification Information */
NOT_APPLICABLE_CONSTANT = -9998
DATA_SET_ID = "MRO-M-HIRISE-3-RDR-V1.0"
DATA_SET_NAME = "MRO MARS HIGH RESOLUTION IMAGING SCIENCE EXPERIMENT RDR V1.0"
PRODUCER_INSTITUTION_NAME = "UNIVERSITY OF ARIZONA"
PRODUCER_ID = "UA"
PRODUCER_FULL_NAME = "ALFRED MCEWEN"
OBSERVATION_ID = "TRA_000832_2220"
PRODUCT_ID = "TRA_000832_2220_COLOR"
PRODUCT_VERSION_ID = "1.0"
INSTRUMENT_HOST_NAME = "MARS RECONNAISSANCE ORBITER"
INSTRUMENT_HOST_ID = "MRO"
INSTRUMENT_NAME = "HIGH RESOLUTION IMAGING SCIENCE EXPERIMENT"
INSTRUMENT_ID = "HIRISE"
TARGET_NAME = "MARS"
MISSION_PHASE_NAME = "TRANSITION"
ORBIT_NUMBER = 832
SOURCE_PRODUCT_ID = (TRA_000832_2220_BG12_1, TRA_000832_2220_BG12_0, TRA_000832_2220_RED4_1, TRA_000832_2220_RED4_0, TRA_000832_2220_IR10_0, TRA_000832_2220_BG13_1, TRA_000832_2220_BG13_0, TRA_000832_2220_RED5_1, TRA_000832_2220_RED5_0, TRA_000832_2220_IR11_1, TRA_000832_2220_IR11_0)
RATIONALE_DESC = "Fretted terrain in Protonilus Mensae"
SOFTWARE_NAME = "PDS_to_JP2 (1.29 2007/09/07 02:24:39)"
OBJECT = IMAGE_MAP_PROJECTION
  ^DATA_SET_MAP_PROJECTION = "DSMAP.CAT"
  MAP_PROJECTION_TYPE = "EQUIRECTANGULAR"
  PROJECTION_LATITUDE_TYPE = PLANETOCENTRIC
  /* NOTE: The EQUIRECTANGULAR projection is based on the formula */
  /* for a sphere. To eliminate confusion in the */
  /* IMAGE_MAP_PROJECTION object we have set all three radii, */
  /* A_AXIS_RADIUS, B_AXIS_RADIUS, and C_AXIS_RADIUS to the same */
  /* number. The value recorded in the three radii is the local */
  /* radius at the CENTER_LATITUDE on the Mars ellipsoid. That is, */
  /* equatorial radius of 3396.190000 km and polar radius of */
  /* 3376.200000 kilometers. Using the local radius of the */
  /* ellipsoid implies that the MAP_SCALE and MAP_RESOLUTION are */
  /* true at the CENTER_LATITUDE. */
  A_AXIS_RADIUS = 3387.887658
  B_AXIS_RADIUS = 3387.887658
  C_AXIS_RADIUS = 3387.887658
  COORDINATE_SYSTEM_NAME = PLANETOCENTRIC
  POSITIVE_LONGITUDE_DIRECTION = EAST
  KEYWORD_LATITUDE_TYPE = PLANETOCENTRIC
  /* NOTE: CENTER_LATITUDE and CENTER_LONGITUDE describe the location */
  /* of the center of projection, which is not necessarily equal to the */
  /* location of the center point of the image. */
  CENTER_LATITUDE = 40.000000
  CENTER_LONGITUDE = 27.643000
  LINE_FIRST_PIXEL = 1
  LINE_LAST_PIXEL = 6233
  SAMPLE_FIRST_PIXEL = 1
  SAMPLE_LAST_PIXEL = 3175
  MAP_PROJECTION_ROTATION = 0.000000
  MAP_RESOLUTION = 118259.588648
  MAP_SCALE = 0.5000
  MAXIMUM_LATITUDE = 41.454864
  MINIMUM_LATITUDE = 41.402170
  LINE_PROJECTION_OFFSET = 4902436.50000
  SAMPLE_PROJECTION_OFFSET = 1581.50000
  EASTERNMOST_LONGITUDE = 27.660588
  WESTERNMOST_LONGITUDE = 27.625556
END_OBJECT = IMAGE_MAP_PROJECTION
/* All xxx_COUNT values are for the MRO spacecraft clock (SCLK) */
/* in seconds:subseconds form. A subsecond tick = 15.2588 microseconds. */
/* All xxx_TIME values are referenced to UTC. */
GROUP = TIME_PARAMETERS
  /* Time when the observation first started */
  MRO:OBSERVATION_START_TIME = 2006-09-30T08:20:59.899
  /* Time of the first image line */
  START_TIME = 2006-09-30T08:20:59.980
  SPACECRAFT_CLOCK_START_COUNT = "844071678:51756"
  /* Time of the last image line */
  STOP_TIME = 2006-09-30T08:21:01.221
  SPACECRAFT_CLOCK_STOP_COUNT = "844071679:63752"
  /* Time when this RDR product was created */
  PRODUCT_CREATION_TIME = 2007-11-09T20:14:23.0
END_GROUP = TIME_PARAMETERS
GROUP = INSTRUMENT_SETTING_PARAMETERS
  MRO:CCD_FLAG = (ON, ON, ON, ON, ON, ON, ON, ON, ON, ON, ON, ON, ON, ON)
  MRO:BINNING = (-9998, -9998, -9998, -9998, 2, 2, -9998, -9998, -9998, -9998, 4, 4, 4, 4)
  MRO:TDI = (-9998, -9998, -9998, -9998, 32, 32, -9998, -9998, -9998, -9998, 32, 32, 32, 32)
  MRO:SPECIAL_PROCESSING_FLAG = (NULL, NULL, NULL, NULL, NOMINAL, NULL, NULL, NULL, NULL, NULL, NOMINAL, NULL, NOMINAL, NULL)
END_GROUP = INSTRUMENT_SETTING_PARAMETERS
GROUP = VIEWING_PARAMETERS
  INCIDENCE_ANGLE = 45.240700
  EMISSION_ANGLE = 0.379437
  PHASE_ANGLE = 45.275394
  LOCAL_TIME = 15.31422
  SOLAR_LONGITUDE = 113.875088
  SUB_SOLAR_AZIMUTH = 171.892547
  NORTH_AZIMUTH = 270.000000
END_GROUP = VIEWING_PARAMETERS
/* The JPEG2000 image data file associated with this label. */
OBJECT = COMPRESSED_FILE
  FILE_NAME = "TRA_000832_2220_COLOR.JP2"
  RECORD_TYPE = UNDEFINED
  ENCODING_TYPE = "JP2"
  ENCODING_TYPE_VERSION_NAME = "ISO/IEC15444-1:2004"
  INTERCHANGE_FORMAT = BINARY
  /* The name of the original source file. */
  UNCOMPRESSED_FILE_NAME = "TRA_000832_2220_COLOR.IMG"
  /* The amount of original image data. */
  REQUIRED_STORAGE_BYTES = 118738650
  ^DESCRIPTION = "JP2INFO.TXT"
END_OBJECT = COMPRESSED_FILE
/* The source image data definition. */
OBJECT = UNCOMPRESSED_FILE
  FILE_NAME = "TRA_000832_2220_COLOR.IMG"
  RECORD_TYPE = FIXED_LENGTH
  RECORD_BYTES = 6350
  FILE_RECORDS = 6233
  ^IMAGE = "TRA_000832_2220_COLOR.IMG"
  OBJECT = IMAGE
    DESCRIPTION = "HiRISE projected and mosaicked product"
    LINES = 6233
    LINE_SAMPLES = 3175
    BANDS = 3
    SAMPLE_TYPE = MSB_UNSIGNED_INTEGER
    SAMPLE_BITS = 16
    SAMPLE_BIT_MASK = 2#0000001111111111#
    /* NOTE: The conversion from DN to I/F (intensity/flux) is: */
    /* I/F = (DN * SCALING_FACTOR) + OFFSET */
    /* I/F is defined as the ratio of the observed radiance and */
    /* the radiance of a 100% lambertian reflector with the sun */
    /* and camera orthogonal to the observing surface. */
    SCALING_FACTOR = 1.38376753053322e-04
    OFFSET = 0.036215465445899
    BAND_STORAGE_TYPE = BAND_SEQUENTIAL
    CORE_NULL = 0
    CORE_LOW_REPR_SATURATION = 1
    CORE_LOW_INSTR_SATURATION = 2
    CORE_HIGH_REPR_SATURATION = 1023
    CORE_HIGH_INSTR_SATURATION = 1022
    CENTER_FILTER_WAVELENGTH = (900, 700, 500)
    MRO:MINIMUM_STRETCH = (244, 178, 3)
    MRO:MAXIMUM_STRETCH = (1021, 858, 226)
    FILTER_NAME = ("NEAR-INFRARED", "RED", "BLUE-GREEN")
  END_OBJECT = IMAGE
END_OBJECT = UNCOMPRESSED_FILE
END
