PDS_VERSION_ID = PDS3
/* Identification Information */
NOT_APPLICABLE_CONSTANT = -9998
DATA_SET_ID = "MRO-M-HIRISE-3-RDR-V1.1"
DATA_SET_NAME = "MRO MARS HIGH RESOLUTION IMAGING SCIENCE EXPERIMENT RDR V1.1"
PRODUCER_INSTITUTION_NAME = "UNIVERSITY OF ARIZONA"
PRODUCER_ID = "UA"
PRODUCER_FULL_NAME = "ALFRED MCEWEN"
OBSERVATION_ID = "PSP_001920_1110"
PRODUCT_ID = "PSP_001920_1110_MRGB"
PRODUCT_VERSION_ID = "2"
INSTRUMENT_HOST_NAME = "MARS RECONNAISSANCE ORBITER"
INSTRUMENT_HOST_ID = "MRO"
INSTRUMENT_NAME = "HIGH RESOLUTION IMAGING SCIENCE EXPERIMENT"
INSTRUMENT_ID = "HIRISE"
TARGET_NAME = "MARS"
MISSION_PHASE_NAME = "PRIMARY SCIENCE PHASE"
ORBIT_NUMBER = 1920
SOURCE_PRODUCT_ID = (PSP_001920_1110_RED0_0, PSP_001920_1110_RED0_1, PSP_001920_1110_RED1_0, PSP_001920_1110_RED1_1, PSP_001920_1110_RED2_0, PSP_001920_1110_RED2_1, PSP_001920_1110_RED3_0, PSP_001920_1110_RED3_1, PSP_001920_1110_RED4_0, PSP_001920_1110_RED4_1, PSP_001920_1110_RED5_0, PSP_001920_1110_RED5_1, PSP_001920_1110_RED6_0, PSP_001920_1110_RED6_1, PSP_001920_1110_RED7_0, PSP_001920_1110_RED7_1, PSP_001920_1110_RED8_0, PSP_001920_1110_RED8_1, PSP_001920_1110_RED9_0, PSP_001920_1110_BG12_0, PSP_001920_1110_BG12_1, PSP_001920_1110_IR10_0, PSP_001920_1110_BG13_0, PSP_001920_1110_BG13_1, PSP_001920_1110_IR11_0, PSP_001920_1110_IR11_1)
RATIONALE_DESC = "Observe seasonal defrosting"
SOFTWARE_NAME = "PDS_to_JP2 v3.19 (1.53 2012/01/24 03:07:27)"
OBJECT = IMAGE_MAP_PROJECTION
  ^DATA_SET_MAP_PROJECTION = "DSMAP.CAT"
  MAP_PROJECTION_TYPE = "POLAR STEREOGRAPHIC"
  PROJECTION_LATITUDE_TYPE = PLANETOCENTRIC
  A_AXIS_RADIUS = 3396.19
  B_AXIS_RADIUS = 3396.19
  C_AXIS_RADIUS = 3376.2
  COORDINATE_SYSTEM_NAME = PLANETOCENTRIC
  POSITIVE_LONGITUDE_DIRECTION = EAST
  KEYWORD_LATITUDE_TYPE = PLANETOCENTRIC
  /* NOTE: CENTER_LATITUDE and CENTER_LONGITUDE describe the location */
  /* of the center of projection, which is not necessarily equal to the */
  /* location of the center point of the image. */
  CENTER_LATITUDE = -90.000
  CENTER_LONGITUDE = 0.000
  LINE_FIRST_PIXEL = 1
  LINE_LAST_PIXEL = 28844
  SAMPLE_FIRST_PIXEL = 1
  SAMPLE_LAST_PIXEL = 35624
  MAP_PROJECTION_ROTATION = 0.0
  MAP_RESOLUTION = 58925.806205833
  MAP_SCALE = 1.0
  MAXIMUM_LATITUDE = -68.640693650197
  MINIMUM_LATITUDE = -69.316135582151
  LINE_PROJECTION_OFFSET = -577879.5
  SAMPLE_PROJECTION_OFFSET = 1121771.5
  EASTERNMOST_LONGITUDE = 242.05261100062
  WESTERNMOST_LONGITUDE = 241.52604392741
END_OBJECT = IMAGE_MAP_PROJECTION
/* All xxx_COUNT values are for the MRO spacecraft clock (SCLK) */
/* in seconds:subseconds form. A subsecond tick = 15.2588 microseconds. */
/* All xxx_TIME values are referenced to UTC. */
GROUP = TIME_PARAMETERS
  /* Time when the observation first started */
  MRO:OBSERVATION_START_TIME = 2006-12-24T01:01:22.003
  /* Time of the first image line */
  START_TIME = 2006-12-24T01:01:22.167
  SPACECRAFT_CLOCK_START_COUNT = "851389301:02121"
  /* Time of the last image line */
  STOP_TIME = 2006-12-24T01:01:34.497
  SPACECRAFT_CLOCK_STOP_COUNT = "851389313:23770"
  /* Time when this RDR product was created */
  PRODUCT_CREATION_TIME = 2016-05-05T23:53:10
END_GROUP = TIME_PARAMETERS
GROUP = INSTRUMENT_SETTING_PARAMETERS
  MRO:CCD_FLAG = (ON, ON, ON, ON, ON, ON, ON, ON, ON, ON, ON, ON, ON, ON)
  MRO:BINNING = (4, 4, 4, 4, 4, 4, 4, 4, 4, 4, 4, 4, 4, 4)
  MRO:TDI = (128, 128, 128, 128, 128, 128, 128, 128, 128, 128, 128, 128, 128, 32)
  MRO:SPECIAL_PROCESSING_FLAG = (CUBENORM, CUBENORM, CUBENORM, CUBENORM, CUBENORM, CUBENORM, CUBENORM, CUBENORM, CUBENORM, CUBENORM, CUBENORM, "NULL", CUBENORM, "NULL")
END_GROUP = INSTRUMENT_SETTING_PARAMETERS
GROUP = VIEWING_PARAMETERS
  INCIDENCE_ANGLE = 89.839920
  EMISSION_ANGLE = 0.177007
  PHASE_ANGLE = 89.911415
  LOCAL_TIME = 16.08794
  SOLAR_LONGITUDE = 155.211795
  SUB_SOLAR_AZIMUTH = 92.108850
  NORTH_AZIMUTH = 151.789327
END_GROUP = VIEWING_PARAMETERS
/* The JPEG2000 image data file associated with this label. */
OBJECT = COMPRESSED_FILE
  FILE_NAME = "PSP_001920_1110_MRGB.JP2"
  RECORD_TYPE = UNDEFINED
  ENCODING_TYPE = "JP2"
  ENCODING_TYPE_VERSION_NAME = "ISO/IEC15444-1:2004"
  INTERCHANGE_FORMAT = BINARY
  /* The name of the original source file. */
  UNCOMPRESSED_FILE_NAME = "PSP_001920_1110_MRGB.IMG"
  /* The amount of original image data. */
  REQUIRED_STORAGE_BYTES = 3082615968
  ^DESCRIPTION = "JP2INFO.TXT"
END_OBJECT = COMPRESSED_FILE
/* The source image data definition. */
OBJECT = UNCOMPRESSED_FILE
  FILE_NAME = "PSP_001920_1110_MRGB.IMG"
  RECORD_TYPE = FIXED_LENGTH
  RECORD_BYTES = 35624
  FILE_RECORDS = 86532
  ^IMAGE = "PSP_001920_1110_MRGB.IMG"
  OBJECT = IMAGE
    DESCRIPTION = "HiRISE projected and mosaicked product"
    LINES = 28844
    LINE_SAMPLES = 35624
    BANDS = 3
    SAMPLE_TYPE = MSB_UNSIGNED_INTEGER
    SAMPLE_BITS = 8
    SAMPLE_BIT_MASK = 2#11111111#
    MRO:STRETCH_FLAG = "FROST_STRETCH"
    /* Scaled DNs have the range 0 to 255 */
    /* and are relative values. */
    SCALING_FACTOR = 1.0079051383399
    OFFSET = -1.0079051383399
    BAND_STORAGE_TYPE = BAND_SEQUENTIAL
    CORE_NULL = 0
    CORE_LOW_REPR_SATURATION = 0
    CORE_LOW_INSTR_SATURATION = 0
    CORE_HIGH_REPR_SATURATION = 255
    CORE_HIGH_INSTR_SATURATION = 255
    CENTER_FILTER_WAVELENGTH = (-9998 , -9998 , -9998 )
    MRO:MINIMUM_STRETCH = (1, 1, 1)
    MRO:MAXIMUM_STRETCH = (254, 254, 254)
    FILTER_NAME = ("NULL", "NULL", "NULL")
  END_OBJECT = IMAGE
END_OBJECT = UNCOMPRESSED_FILE
END
