PDS_VERSION_ID = PDS3
/* Identification Information */
NOT_APPLICABLE_CONSTANT = -9998
DATA_SET_ID = "MRO-M-HIRISE-3-RDR-V1.1"
DATA_SET_NAME = "MRO MARS HIGH RESOLUTION IMAGING SCIENCE EXPERIMENT RDR V1.1"
PRODUCER_INSTITUTION_NAME = "UNIVERSITY OF ARIZONA"
PRODUCER_ID = "UA"
PRODUCER_FULL_NAME = "ALFRED MCEWEN"
OBSERVATION_ID = "ESP_028052_2615"
PRODUCT_ID = "ESP_028052_2615_RED"
PRODUCT_VERSION_ID = "1.0"
INSTRUMENT_HOST_NAME = "MARS RECONNAISSANCE ORBITER"
INSTRUMENT_HOST_ID = "MRO"
INSTRUMENT_NAME = "HIGH RESOLUTION IMAGING SCIENCE EXPERIMENT"
INSTRUMENT_ID = "HIRISE"
TARGET_NAME = "MARS"
MISSION_PHASE_NAME = "EXTENDED SCIENCE PHASE"
ORBIT_NUMBER = 28052
SOURCE_PRODUCT_ID = (ESP_028052_2615_RED0_0, ESP_028052_2615_RED0_1, ESP_028052_2615_RED1_0, ESP_028052_2615_RED1_1, ESP_028052_2615_RED2_0, ESP_028052_2615_RED2_1, ESP_028052_2615_RED3_0, ESP_028052_2615_RED3_1, ESP_028052_2615_RED4_0, ESP_028052_2615_RED4_1, ESP_028052_2615_RED5_0, ESP_028052_2615_RED5_1, ESP_028052_2615_RED6_0, ESP_028052_2615_RED6_1, ESP_028052_2615_RED7_0, ESP_028052_2615_RED7_1, ESP_028052_2615_RED8_0, ESP_028052_2615_RED8_1)
RATIONALE_DESC = "Dunes in Abalos Undae"
SOFTWARE_NAME = "PDS_to_JP2 v3.19 (1.53 2012/01/24 03:07:27)"
OBJECT = IMAGE_MAP_PROJECTION
  ^DATA_SET_MAP_PROJECTION = "DSMAP.CAT"
  MAP_PROJECTION_TYPE = "POLAR STEREOGRAPHIC"
  PROJECTION_LATITUDE_TYPE = PLANETOCENTRIC
  A_AXIS_RADIUS = 3396.19
  B_AXIS_RADIUS = 3396.19
  C_AXIS_RADIUS = 3376.2
  COORDINATE_SYSTEM_NAME = PLANETOCENTRIC
  POSITIVE_LONGITUDE_DIRECTION = EAST
  KEYWORD_LATITUDE_TYPE = PLANETOCENTRIC
  /* NOTE: CENTER_LATITUDE and CENTER_LONGITUDE describe the location */
  /* of the center of projection, which is not necessarily equal to the */
  /* location of the center point of the image. */
  CENTER_LATITUDE = 90.000
  CENTER_LONGITUDE = 0.000
  LINE_FIRST_PIXEL = 1
  LINE_LAST_PIXEL = 25766
  SAMPLE_FIRST_PIXEL = 1
  SAMPLE_LAST_PIXEL = 33620
  MAP_PROJECTION_ROTATION = 0.0
  MAP_RESOLUTION = 117851.61241167
  MAP_SCALE = 0.5
  MAXIMUM_LATITUDE = 81.723368067549
  MINIMUM_LATITUDE = 81.435751222758
  LINE_PROJECTION_OFFSET = -158417.5
  SAMPLE_PROJECTION_OFFSET = 996095.5
  EASTERNMOST_LONGITUDE = 280.53465545565
  WESTERNMOST_LONGITUDE = 279.29310405817
END_OBJECT = IMAGE_MAP_PROJECTION
/* All xxx_COUNT values are for the MRO spacecraft clock (SCLK) */
/* in seconds:subseconds form. A subsecond tick = 15.2588 microseconds. */
/* All xxx_TIME values are referenced to UTC. */
GROUP = TIME_PARAMETERS
  /* Time when the observation first started */
  MRO:OBSERVATION_START_TIME = 2012-07-21T08:16:45.155
  /* Time of the first image line */
  START_TIME = 2012-07-21T08:16:45.335
  SPACECRAFT_CLOCK_START_COUNT = "1027325840:02493"
  /* Time of the last image line */
  STOP_TIME = 2012-07-21T08:16:50.524
  SPACECRAFT_CLOCK_STOP_COUNT = "1027325845:14863"
  /* Time when this RDR product was created */
  PRODUCT_CREATION_TIME = 2012-07-26T02:43:59
END_GROUP = TIME_PARAMETERS
GROUP = INSTRUMENT_SETTING_PARAMETERS
  MRO:CCD_FLAG = (ON, ON, ON, ON, ON, ON, ON, ON, ON, OFF, ON, ON, ON, ON)
  MRO:BINNING = (2, 2, 2, 2, 2, 2, 2, 2, 2, -9998, -9998, -9998, -9998, -9998)
  MRO:TDI = (128, 128, 128, 128, 128, 128, 128, 128, 128, -9998, -9998, -9998, -9998, -9998)
  MRO:SPECIAL_PROCESSING_FLAG = (NOMINAL, NOMINAL, NOMINAL, NOMINAL, NOMINAL, NOMINAL, NOMINAL, NOMINAL, NOMINAL, "NULL", "NULL", "NULL", "NULL", "NULL")
END_GROUP = INSTRUMENT_SETTING_PARAMETERS
GROUP = VIEWING_PARAMETERS
  INCIDENCE_ANGLE = 68.080158
  EMISSION_ANGLE = 0.490747
  PHASE_ANGLE = 68.545545
  LOCAL_TIME = 14.23690
  SOLAR_LONGITUDE = 142.656875
  SUB_SOLAR_AZIMUTH = 205.226794
  NORTH_AZIMUTH = 350.086120
END_GROUP = VIEWING_PARAMETERS
/* The JPEG2000 image data file associated with this label. */
OBJECT = COMPRESSED_FILE
  FILE_NAME = "ESP_028052_2615_RED.JP2"
  RECORD_TYPE = UNDEFINED
  ENCODING_TYPE = "JP2"
  ENCODING_TYPE_VERSION_NAME = "ISO/IEC15444-1:2004"
  INTERCHANGE_FORMAT = BINARY
  /* The name of the original source file. */
  UNCOMPRESSED_FILE_NAME = "ESP_028052_2615_RED.IMG"
  /* The amount of original image data. */
  REQUIRED_STORAGE_BYTES = 1732505840
  ^DESCRIPTION = "JP2INFO.TXT"
END_OBJECT = COMPRESSED_FILE
/* The source image data definition. */
OBJECT = UNCOMPRESSED_FILE
  FILE_NAME = "ESP_028052_2615_RED.IMG"
  RECORD_TYPE = FIXED_LENGTH
  RECORD_BYTES = 67240
  FILE_RECORDS = 25766
  ^IMAGE = "ESP_028052_2615_RED.IMG"
  OBJECT = IMAGE
    DESCRIPTION = "HiRISE projected and mosaicked product"
    LINES = 25766
    LINE_SAMPLES = 33620
    BANDS = 1
    SAMPLE_TYPE = MSB_UNSIGNED_INTEGER
    SAMPLE_BITS = 16
    SAMPLE_BIT_MASK = 2#0000001111111111#
    /* NOTE: The conversion from DN to I/F (intensity/flux) is: */
    /* I/F = (DN * SCALING_FACTOR) + OFFSET */
    /* I/F is defined as the ratio of the observed radiance and */
    /* the radiance of a 100% lambertian reflector with the sun */
    /* and camera orthogonal to the observing surface. */
    SCALING_FACTOR = 3.40488223830216e-05
    OFFSET = 0.043808780134291
    BAND_STORAGE_TYPE = BAND_SEQUENTIAL
    CORE_NULL = 0
    CORE_LOW_REPR_SATURATION = 1
    CORE_LOW_INSTR_SATURATION = 2
    CORE_HIGH_REPR_SATURATION = 1023
    CORE_HIGH_INSTR_SATURATION = 1022
    CENTER_FILTER_WAVELENGTH = 700
    MRO:MINIMUM_STRETCH = 3
    MRO:MAXIMUM_STRETCH = 1021
    FILTER_NAME = "RED"
  END_OBJECT = IMAGE
END_OBJECT = UNCOMPRESSED_FILE
END
