PDS_VERSION_ID = PDS3
/* Identification Information */
NOT_APPLICABLE_CONSTANT = -9998
DATA_SET_ID = "MRO-M-HIRISE-3-RDR-V1.1"
DATA_SET_NAME = "MRO MARS HIGH RESOLUTION IMAGING SCIENCE EXPERIMENT RDR V1.1"
PRODUCER_INSTITUTION_NAME = "UNIVERSITY OF ARIZONA"
PRODUCER_ID = "UA"
PRODUCER_FULL_NAME = "ALFRED MCEWEN"
OBSERVATION_ID = "PSP_009576_1905"
PRODUCT_ID = "PSP_009576_1905_RED"
PRODUCT_VERSION_ID = "2.0"
INSTRUMENT_HOST_NAME = "MARS RECONNAISSANCE ORBITER"
INSTRUMENT_HOST_ID = "MRO"
INSTRUMENT_NAME = "HIGH RESOLUTION IMAGING SCIENCE EXPERIMENT"
INSTRUMENT_ID = "HIRISE"
TARGET_NAME = "MARS"
MISSION_PHASE_NAME = "PRIMARY SCIENCE PHASE"
ORBIT_NUMBER = 9576
SOURCE_PRODUCT_ID = (PSP_009576_1905_RED0_0, PSP_009576_1905_RED0_1, PSP_009576_1905_RED1_0, PSP_009576_1905_RED1_1, PSP_009576_1905_RED2_0, PSP_009576_1905_RED2_1, PSP_009576_1905_RED3_0, PSP_009576_1905_RED3_1, PSP_009576_1905_RED4_0, PSP_009576_1905_RED4_1, PSP_009576_1905_RED5_0, PSP_009576_1905_RED5_1, PSP_009576_1905_RED6_0, PSP_009576_1905_RED6_1, PSP_009576_1905_RED7_0, PSP_009576_1905_RED7_1, PSP_009576_1905_RED8_0, PSP_009576_1905_RED8_1, PSP_009576_1905_RED9_0, PSP_009576_1905_RED9_1)
RATIONALE_DESC = "Light-toned outcrops exhumed from dark material in Arabia Terra"
SOFTWARE_NAME = "PDS_to_JP2 v3.17 (1.51 2010/04/30 08:03:43)"
OBJECT = IMAGE_MAP_PROJECTION
  ^DATA_SET_MAP_PROJECTION = "DSMAP.CAT"
  MAP_PROJECTION_TYPE = "EQUIRECTANGULAR"
  PROJECTION_LATITUDE_TYPE = PLANETOCENTRIC
  /* NOTE: The EQUIRECTANGULAR projection is based on the formula */
  /* for a sphere. To eliminate confusion in the */
  /* IMAGE_MAP_PROJECTION object we have set all three radii, */
  /* A_AXIS_RADIUS, B_AXIS_RADIUS, and C_AXIS_RADIUS to the same */
  /* number. The value recorded in the three radii is the local */
  /* radius at the CENTER_LATITUDE on the Mars ellipsoid. That is, */
  /* equatorial radius of 3396.190000 km and polar radius of */
  /* 3376.200000 kilometers. Using the local radius of the */
  /* ellipsoid implies that the MAP_SCALE and MAP_RESOLUTION are */
  /* true at the CENTER_LATITUDE. */
  A_AXIS_RADIUS = 3395.5820270805
  B_AXIS_RADIUS = 3395.5820270805
  C_AXIS_RADIUS = 3395.5820270805
  COORDINATE_SYSTEM_NAME = PLANETOCENTRIC
  POSITIVE_LONGITUDE_DIRECTION = EAST
  KEYWORD_LATITUDE_TYPE = PLANETOCENTRIC
  /* NOTE: CENTER_LATITUDE and CENTER_LONGITUDE describe the location */
  /* of the center of projection, which is not necessarily equal to the */
  /* location of the center point of the image. */
  CENTER_LATITUDE = 10.000
  CENTER_LONGITUDE = 180.000
  LINE_FIRST_PIXEL = 1
  LINE_LAST_PIXEL = 36138
  SAMPLE_FIRST_PIXEL = 1
  SAMPLE_LAST_PIXEL = 16583
  MAP_PROJECTION_ROTATION = 0.0
  MAP_RESOLUTION = 118528.17278819
  MAP_SCALE = 0.5
  MAXIMUM_LATITUDE = 10.717288137475
  MINIMUM_LATITUDE = 10.412399178881
  LINE_PROJECTION_OFFSET = 1270301.5
  SAMPLE_PROJECTION_OFFSET = -20439724.5
  EASTERNMOST_LONGITUDE = 355.24845872268
  WESTERNMOST_LONGITUDE = 355.10639815894
END_OBJECT = IMAGE_MAP_PROJECTION
/* All xxx_COUNT values are for the MRO spacecraft clock (SCLK) */
/* in seconds:subseconds form. A subsecond tick = 15.2588 microseconds. */
/* All xxx_TIME values are referenced to UTC. */
GROUP = TIME_PARAMETERS
  /* Time when the observation first started */
  MRO:OBSERVATION_START_TIME = 2008-08-11T16:03:34.405
  /* Time of the first image line */
  START_TIME = 2008-08-11T16:03:34.557
  SPACECRAFT_CLOCK_START_COUNT = "902937834:53308"
  /* Time of the last image line */
  STOP_TIME = 2008-08-11T16:03:40.099
  SPACECRAFT_CLOCK_STOP_COUNT = "902937840:23309"
  /* Time when this RDR product was created */
  PRODUCT_CREATION_TIME = 2010-06-11T19:55:23
END_GROUP = TIME_PARAMETERS
GROUP = INSTRUMENT_SETTING_PARAMETERS
  MRO:CCD_FLAG = (ON, ON, ON, ON, ON, ON, ON, ON, ON, ON, ON, ON, ON, ON)
  MRO:BINNING = (2, 2, 2, 2, 2, 2, 2, 2, 2, 2, -9998, -9998, -9998, -9998)
  MRO:TDI = (64, 64, 64, 64, 64, 64, 64, 64, 64, 64, -9998, -9998, -9998, -9998)
  MRO:SPECIAL_PROCESSING_FLAG = (NOMINAL, NOMINAL, NOMINAL, NOMINAL, NOMINAL, NOMINAL, NOMINAL, NOMINAL, NOMINAL, NOMINAL, "NULL", "NULL", "NULL", "NULL")
END_GROUP = INSTRUMENT_SETTING_PARAMETERS
GROUP = VIEWING_PARAMETERS
  INCIDENCE_ANGLE = 49.425702
  EMISSION_ANGLE = 18.843297
  PHASE_ANGLE = 66.294029
  LOCAL_TIME = 15.34625
  SOLAR_LONGITUDE = 111.280177
  SUB_SOLAR_AZIMUTH = 201.772476
  NORTH_AZIMUTH = 270.000001
END_GROUP = VIEWING_PARAMETERS
/* The JPEG2000 image data file associated with this label. */
OBJECT = COMPRESSED_FILE
  FILE_NAME = "PSP_009576_1905_RED.JP2"
  RECORD_TYPE = UNDEFINED
  ENCODING_TYPE = "JP2"
  ENCODING_TYPE_VERSION_NAME = "ISO/IEC15444-1:2004"
  INTERCHANGE_FORMAT = BINARY
  /* The name of the original source file. */
  UNCOMPRESSED_FILE_NAME = "PSP_009576_1905_RED.IMG"
  /* The amount of original image data. */
  REQUIRED_STORAGE_BYTES = 1198552908
  ^DESCRIPTION = "JP2INFO.TXT"
END_OBJECT = COMPRESSED_FILE
/* The source image data definition. */
OBJECT = UNCOMPRESSED_FILE
  FILE_NAME = "PSP_009576_1905_RED.IMG"
  RECORD_TYPE = FIXED_LENGTH
  RECORD_BYTES = 33166
  FILE_RECORDS = 36138
  ^IMAGE = "PSP_009576_1905_RED.IMG"
  OBJECT = IMAGE
    DESCRIPTION = "HiRISE projected and mosaicked product"
    LINES = 36138
    LINE_SAMPLES = 16583
    BANDS = 1
    SAMPLE_TYPE = MSB_UNSIGNED_INTEGER
    SAMPLE_BITS = 16
    SAMPLE_BIT_MASK = 2#0000001111111111#
    /* NOTE: The conversion from DN to I/F (intensity/flux) is: */
    /* I/F = (DN * SCALING_FACTOR) + OFFSET */
    /* I/F is defined as the ratio of the observed radiance and */
    /* the radiance of a 100% lambertian reflector with the sun */
    /* and camera orthogonal to the observing surface. */
    SCALING_FACTOR = 1.2043027996108e-04
    OFFSET = 0.069946558791518
    BAND_STORAGE_TYPE = BAND_SEQUENTIAL
    CORE_NULL = 0
    CORE_LOW_REPR_SATURATION = 1
    CORE_LOW_INSTR_SATURATION = 2
    CORE_HIGH_REPR_SATURATION = 1023
    CORE_HIGH_INSTR_SATURATION = 1022
    CENTER_FILTER_WAVELENGTH = 700
    MRO:MINIMUM_STRETCH = 3
    MRO:MAXIMUM_STRETCH = 1021
    FILTER_NAME = "RED"
  END_OBJECT = IMAGE
END_OBJECT = UNCOMPRESSED_FILE
END
