<?xml version="1.0" encoding="UTF-8"?>
<?xml-model href="https://pds.nasa.gov/pds4/pds/v1/PDS4_PDS_1L00.sch" schematypens="http://purl.oclc.org/dsdl/schematron"?>
<?xml-model href="https://pds.nasa.gov/pds4/mission/mro/v1/PDS4_MRO_1L00_1330.sch" schematypens="http://purl.oclc.org/dsdl/schematron"?>
<?xml-model href="http://pds.nasa.gov/pds4/disp/v1/PDS4_DISP_1L00_1510.sch" schematypens="http://purl.oclc.org/dsdl/schematron"?>
<?xml-model href="http://pds.nasa.gov/pds4/cart/v1/PDS4_CART_1L00_1970.sch" schematypens="http://purl.oclc.org/dsdl/schematron"?>
<?xml-model href="http://pds.nasa.gov/pds4/img/v1/PDS4_IMG_1L00_1890.sch" schematypens="http://purl.oclc.org/dsdl/schematron"?>
<?xml-model href="https://pds.nasa.gov/pds4/proc/v1/PDS4_PROC_1L00_1300.sch" schematypens="http://purl.oclc.org/dsdl/schematron"?>
<?xml-model href="https://pds.nasa.gov/pds4/geom/v1/PDS4_GEOM_1L00_1970.sch" schematypens="http://purl.oclc.org/dsdl/schematron"?>
<Product_Observational xmlns="http://pds.nasa.gov/pds4/pds/v1" xmlns:pds="http://pds.nasa.gov/pds4/pds/v1" xmlns:disp="http://pds.nasa.gov/pds4/disp/v1" xmlns:cart="http://pds.nasa.gov/pds4/cart/v1" xmlns:mro="http://pds.nasa.gov/pds4/mission/mro/v1" xmlns:img="http://pds.nasa.gov/pds4/img/v1" xmlns:proc="http://pds.nasa.gov/pds4/proc/v1" xmlns:geom="http://pds.nasa.gov/pds4/geom/v1" xmlns:xsi="http://www.w3.org/2001/XMLSchema-instance" xsi:schemaLocation="http://pds.nasa.gov/pds4/pds/v1 https://pds.nasa.gov/pds4/pds/v1/PDS4_PDS_1L00.xsd                         http://pds.nasa.gov/pds4/mission/mro/v1 https://pds.nasa.gov/pds4/mission/mro/v1/PDS4_MRO_1L00_1330.xsd                         http://pds.nasa.gov/pds4/disp/v1 http://pds.nasa.gov/pds4/disp/v1/PDS4_DISP_1L00_1510.xsd                         http://pds.nasa.gov/pds4/cart/v1 http://pds.nasa.gov/pds4/cart/v1/PDS4_CART_1L00_1970.xsd                         http://pds.nasa.gov/pds4/img/v1 https://pds.nasa.gov/pds4/img/v1/PDS4_IMG_1L00_1890.xsd                         http://pds.nasa.gov/pds4/geom/v1 https://pds.nasa.gov/pds4/geom/v1/PDS4_GEOM_1L00_1970.xsd                         http://pds.nasa.gov/pds4/proc/v1 https://pds.nasa.gov/pds4/proc/v1/PDS4_PROC_1L00_1300.xsd">
  <Identification_Area>
    <logical_identifier>urn:nasa:pds:mro_hirise:map_projected_rdr:esp_089200_2040_red</logical_identifier>
    <version_id>1.0</version_id>
    <title>MRO MARS HIGH RESOLUTION IMAGING SCIENCE EXPERIMENT REDUCED DATA RECORD EQUIRECTANGULAR PROJECTION</title>
    <information_model_version>1.21.0.0</information_model_version>
    <product_class>Product_Observational</product_class>
    <Alias_List>
      <Alias>
        <alternate_id>ESP_089200_2040_RED</alternate_id>
        <comment>Original PDS3 HiRISE product identifier.  This is also the root
                        name of all files derived from this product.
                </comment>
      </Alias>
    </Alias_List>
    <Modification_History>
      <Modification_Detail>
        <modification_date>2025-08-13</modification_date>
        <version_id>1.0</version_id>
        <description>This PDS4 detached label for HiRISE map projected 
                    "Reduced Data Record" product.
                </description>
      </Modification_Detail>
    </Modification_History>
  </Identification_Area>
  <Observation_Area>
    <Time_Coordinates>
      <start_date_time>2025-08-06T19:58:37.773Z</start_date_time>
      <stop_date_time>2025-08-06T19:58:40.675Z</stop_date_time>
      <local_true_solar_time>15.37019</local_true_solar_time>
      <solar_longitude unit="deg">121.204122</solar_longitude>
    </Time_Coordinates>
    <Primary_Result_Summary>
      <purpose>Science</purpose>
      <processing_level>Derived</processing_level>
      <description>Calibrated, mosaicked and map-projected HiRISE observation of the target in GeoTIFF format</description>
    </Primary_Result_Summary>
    <Investigation_Area>
      <name>MARS RECONNAISSANCE ORBITER</name>
      <type>Mission</type>
      <Internal_Reference>
        <lid_reference>urn:nasa:pds:context:investigation:mission.mars_reconnaissance_orbiter</lid_reference>
        <reference_type>data_to_investigation</reference_type>
        <comment>This is the PDS4 logical identifier for MRO</comment>
      </Internal_Reference>
    </Investigation_Area>
    <Observing_System>
      <Observing_System_Component>
        <name>HIGH RESOLUTION IMAGING SCIENCE EXPERIMENT</name>
        <type>Instrument</type>
        <Internal_Reference>
          <lid_reference>urn:nasa:pds:context:instrument:hirise.mro</lid_reference>
          <reference_type>is_instrument</reference_type>
        </Internal_Reference>
      </Observing_System_Component>
    </Observing_System>
    <Target_Identification>
      <name>Mars</name>
      <type>Planet</type>
      <Internal_Reference>
        <lid_reference>urn:nasa:pds:context:target:planet.mars</lid_reference>
        <reference_type>data_to_target</reference_type>
      </Internal_Reference>
    </Target_Identification>
    <Mission_Area>
      <mro:MRO_Parameters>
        <mro:product_type>RDR</mro:product_type>
        <mro:product_version_id>1.0</mro:product_version_id>
        <mro:observation_rationale>Kasei Valles remnant fan</mro:observation_rationale>
        <mro:orbit_number>89200</mro:orbit_number>
        <mro:mission_phase_name>Extended Science</mro:mission_phase_name>
        <mro:spacecraft_clock_count_partition>30</mro:spacecraft_clock_count_partition>
        <mro:spacecraft_clock_start_count>1438977579:30868</mro:spacecraft_clock_start_count>
        <mro:spacecraft_clock_stop_count>1438977582:24408</mro:spacecraft_clock_stop_count>
        <mro:producer_institution_name>University of Arizona</mro:producer_institution_name>
        <mro:HiRISE_Time_Parameters>
          <mro:observation_start_time>2025-08-06T19:58:37.613Z</mro:observation_start_time>
        </mro:HiRISE_Time_Parameters>
        <mro:HiRISE_Instrument_Setting_Parameters/>
        <mro:HiRISE_Temperature_Parameters/>
        <mro:HiRISE_Power_Parameters/>
        <mro:HiRISE_RDR_Parameters>
          <mro:ccd_flag_red0>ON</mro:ccd_flag_red0>
          <mro:ccd_flag_red1>ON</mro:ccd_flag_red1>
          <mro:ccd_flag_red2>ON</mro:ccd_flag_red2>
          <mro:ccd_flag_red3>ON</mro:ccd_flag_red3>
          <mro:ccd_flag_red4>ON</mro:ccd_flag_red4>
          <mro:ccd_flag_red5>ON</mro:ccd_flag_red5>
          <mro:ccd_flag_red6>ON</mro:ccd_flag_red6>
          <mro:ccd_flag_red7>ON</mro:ccd_flag_red7>
          <mro:ccd_flag_red8>ON</mro:ccd_flag_red8>
          <mro:ccd_flag_red9>OFF</mro:ccd_flag_red9>
          <mro:ccd_flag_ir10>ON</mro:ccd_flag_ir10>
          <mro:ccd_flag_ir11>ON</mro:ccd_flag_ir11>
          <mro:ccd_flag_bg12>ON</mro:ccd_flag_bg12>
          <mro:ccd_flag_bg13>ON</mro:ccd_flag_bg13>
          <mro:binning_red0>2</mro:binning_red0>
          <mro:binning_red1>2</mro:binning_red1>
          <mro:binning_red2>2</mro:binning_red2>
          <mro:binning_red3>2</mro:binning_red3>
          <mro:binning_red4 xsi:nil="true" nilReason="inapplicable"/>
          <mro:binning_red5>2</mro:binning_red5>
          <mro:binning_red6>2</mro:binning_red6>
          <mro:binning_red7>2</mro:binning_red7>
          <mro:binning_red8>2</mro:binning_red8>
          <mro:binning_red9 xsi:nil="true" nilReason="inapplicable"/>
          <mro:binning_ir10 xsi:nil="true" nilReason="inapplicable"/>
          <mro:binning_ir11 xsi:nil="true" nilReason="inapplicable"/>
          <mro:binning_bg12 xsi:nil="true" nilReason="inapplicable"/>
          <mro:binning_bg13 xsi:nil="true" nilReason="inapplicable"/>
          <mro:tdi_red0>64</mro:tdi_red0>
          <mro:tdi_red1>64</mro:tdi_red1>
          <mro:tdi_red2>64</mro:tdi_red2>
          <mro:tdi_red3>64</mro:tdi_red3>
          <mro:tdi_red4 xsi:nil="true" nilReason="inapplicable"/>
          <mro:tdi_red5>64</mro:tdi_red5>
          <mro:tdi_red6>64</mro:tdi_red6>
          <mro:tdi_red7>64</mro:tdi_red7>
          <mro:tdi_red8>64</mro:tdi_red8>
          <mro:tdi_red9 xsi:nil="true" nilReason="inapplicable"/>
          <mro:tdi_ir10 xsi:nil="true" nilReason="inapplicable"/>
          <mro:tdi_ir11 xsi:nil="true" nilReason="inapplicable"/>
          <mro:tdi_bg12 xsi:nil="true" nilReason="inapplicable"/>
          <mro:tdi_bg13 xsi:nil="true" nilReason="inapplicable"/>
          <mro:special_processing_flag_red0>CUBENORM</mro:special_processing_flag_red0>
          <mro:special_processing_flag_red1>CUBENORM</mro:special_processing_flag_red1>
          <mro:special_processing_flag_red2>CUBENORM</mro:special_processing_flag_red2>
          <mro:special_processing_flag_red3>CUBENORM</mro:special_processing_flag_red3>
          <mro:special_processing_flag_red4>NULL</mro:special_processing_flag_red4>
          <mro:special_processing_flag_red5>CUBENORM</mro:special_processing_flag_red5>
          <mro:special_processing_flag_red6>CUBENORM</mro:special_processing_flag_red6>
          <mro:special_processing_flag_red7>CUBENORM</mro:special_processing_flag_red7>
          <mro:special_processing_flag_red8>CUBENORM</mro:special_processing_flag_red8>
          <mro:special_processing_flag_red9>NULL</mro:special_processing_flag_red9>
          <mro:special_processing_flag_ir10>NULL</mro:special_processing_flag_ir10>
          <mro:special_processing_flag_ir11>NULL</mro:special_processing_flag_ir11>
          <mro:special_processing_flag_bg12>NULL</mro:special_processing_flag_bg12>
          <mro:special_processing_flag_bg13>NULL</mro:special_processing_flag_bg13>
          <mro:minimum_stretch>3</mro:minimum_stretch>
          <mro:maximum_stretch>1021</mro:maximum_stretch>
        </mro:HiRISE_RDR_Parameters>
      </mro:MRO_Parameters>
    </Mission_Area>
    <Discipline_Area>
      <img:Imaging>
        <Local_Internal_Reference>
          <local_identifier_reference>DATA_FILE</local_identifier_reference>
          <local_reference_type>imaging_parameters_to_image_object</local_reference_type>
        </Local_Internal_Reference>
        <img:Optical_Filter>
          <img:filter_name>RED</img:filter_name>
          <img:bandwidth unit="nm">300</img:bandwidth>
          <img:center_filter_wavelength unit="nm">700</img:center_filter_wavelength>
        </img:Optical_Filter>
      </img:Imaging>
      <proc:Processing_Information>
        <Local_Internal_Reference>
          <local_identifier_reference>DATA_FILE</local_identifier_reference>
          <local_reference_type>processing_information_to_data_object</local_reference_type>
        </Local_Internal_Reference>
        <proc:Input_Product_List>
          <proc:Input_Product>
            <Internal_Reference>
              <lid_reference>urn:nasa:pds:mro_hirise:edr:esp_089200_2040_red0_0</lid_reference>
              <reference_type>lid_reference</reference_type>
            </Internal_Reference>
          </proc:Input_Product>
          <proc:Input_Product>
            <Internal_Reference>
              <lid_reference>urn:nasa:pds:mro_hirise:edr:esp_089200_2040_red0_1</lid_reference>
              <reference_type>lid_reference</reference_type>
            </Internal_Reference>
          </proc:Input_Product>
          <proc:Input_Product>
            <Internal_Reference>
              <lid_reference>urn:nasa:pds:mro_hirise:edr:esp_089200_2040_red1_0</lid_reference>
              <reference_type>lid_reference</reference_type>
            </Internal_Reference>
          </proc:Input_Product>
          <proc:Input_Product>
            <Internal_Reference>
              <lid_reference>urn:nasa:pds:mro_hirise:edr:esp_089200_2040_red1_1</lid_reference>
              <reference_type>lid_reference</reference_type>
            </Internal_Reference>
          </proc:Input_Product>
          <proc:Input_Product>
            <Internal_Reference>
              <lid_reference>urn:nasa:pds:mro_hirise:edr:esp_089200_2040_red2_0</lid_reference>
              <reference_type>lid_reference</reference_type>
            </Internal_Reference>
          </proc:Input_Product>
          <proc:Input_Product>
            <Internal_Reference>
              <lid_reference>urn:nasa:pds:mro_hirise:edr:esp_089200_2040_red2_1</lid_reference>
              <reference_type>lid_reference</reference_type>
            </Internal_Reference>
          </proc:Input_Product>
          <proc:Input_Product>
            <Internal_Reference>
              <lid_reference>urn:nasa:pds:mro_hirise:edr:esp_089200_2040_red3_0</lid_reference>
              <reference_type>lid_reference</reference_type>
            </Internal_Reference>
          </proc:Input_Product>
          <proc:Input_Product>
            <Internal_Reference>
              <lid_reference>urn:nasa:pds:mro_hirise:edr:esp_089200_2040_red3_1</lid_reference>
              <reference_type>lid_reference</reference_type>
            </Internal_Reference>
          </proc:Input_Product>
          <proc:Input_Product>
            <Internal_Reference>
              <lid_reference>urn:nasa:pds:mro_hirise:edr:esp_089200_2040_red5_0</lid_reference>
              <reference_type>lid_reference</reference_type>
            </Internal_Reference>
          </proc:Input_Product>
          <proc:Input_Product>
            <Internal_Reference>
              <lid_reference>urn:nasa:pds:mro_hirise:edr:esp_089200_2040_red5_1</lid_reference>
              <reference_type>lid_reference</reference_type>
            </Internal_Reference>
          </proc:Input_Product>
          <proc:Input_Product>
            <Internal_Reference>
              <lid_reference>urn:nasa:pds:mro_hirise:edr:esp_089200_2040_red6_0</lid_reference>
              <reference_type>lid_reference</reference_type>
            </Internal_Reference>
          </proc:Input_Product>
          <proc:Input_Product>
            <Internal_Reference>
              <lid_reference>urn:nasa:pds:mro_hirise:edr:esp_089200_2040_red6_1</lid_reference>
              <reference_type>lid_reference</reference_type>
            </Internal_Reference>
          </proc:Input_Product>
          <proc:Input_Product>
            <Internal_Reference>
              <lid_reference>urn:nasa:pds:mro_hirise:edr:esp_089200_2040_red7_0</lid_reference>
              <reference_type>lid_reference</reference_type>
            </Internal_Reference>
          </proc:Input_Product>
          <proc:Input_Product>
            <Internal_Reference>
              <lid_reference>urn:nasa:pds:mro_hirise:edr:esp_089200_2040_red7_1</lid_reference>
              <reference_type>lid_reference</reference_type>
            </Internal_Reference>
          </proc:Input_Product>
          <proc:Input_Product>
            <Internal_Reference>
              <lid_reference>urn:nasa:pds:mro_hirise:edr:esp_089200_2040_red8_0</lid_reference>
              <reference_type>lid_reference</reference_type>
            </Internal_Reference>
          </proc:Input_Product>
          <proc:Input_Product>
            <Internal_Reference>
              <lid_reference>urn:nasa:pds:mro_hirise:edr:esp_089200_2040_red8_1</lid_reference>
              <reference_type>lid_reference</reference_type>
            </Internal_Reference>
          </proc:Input_Product>
        </proc:Input_Product_List>
      </proc:Processing_Information>
      <cart:Cartography>
        <Local_Internal_Reference>
          <local_identifier_reference>DATA_FILE</local_identifier_reference>
          <local_reference_type>cartography_parameters_to_image_object</local_reference_type>
        </Local_Internal_Reference>
        <cart:Spatial_Domain>
          <cart:Bounding_Coordinates>
            <cart:west_bounding_coordinate unit="deg">294.825634367730004</cart:west_bounding_coordinate>
            <cart:east_bounding_coordinate unit="deg">294.943712103729979</cart:east_bounding_coordinate>
            <cart:north_bounding_coordinate unit="deg">23.6867243656429984</cart:north_bounding_coordinate>
            <cart:south_bounding_coordinate unit="deg">23.5225975427720009</cart:south_bounding_coordinate>
          </cart:Bounding_Coordinates>
        </cart:Spatial_Domain>
        <cart:Spatial_Reference_Information>
          <cart:Horizontal_Coordinate_System_Definition>
            <cart:Planar>
              <cart:Map_Projection>
                <cart:map_projection_name>Equirectangular</cart:map_projection_name>
                <cart:Equirectangular>
                  <cart:latitude_of_projection_origin unit="deg">0</cart:latitude_of_projection_origin>
                  <cart:standard_parallel_1 unit="deg">20</cart:standard_parallel_1>
                  <cart:longitude_of_central_meridian unit="deg">180</cart:longitude_of_central_meridian>
                </cart:Equirectangular>
              </cart:Map_Projection>
              <cart:Planar_Coordinate_Information>
                <cart:planar_coordinate_encoding_method>Coordinate Pair</cart:planar_coordinate_encoding_method>
                <cart:Coordinate_Representation>
                  <cart:pixel_resolution_x unit="m/pixel">0.5</cart:pixel_resolution_x>
                  <cart:pixel_resolution_y unit="m/pixel">0.5</cart:pixel_resolution_y>
                  <cart:pixel_scale_x unit="pixel/deg">118467.129327858696</cart:pixel_scale_x>
                  <cart:pixel_scale_y unit="pixel/deg">118467.129327858696</cart:pixel_scale_y>
                </cart:Coordinate_Representation>
              </cart:Planar_Coordinate_Information>
              <cart:Geo_Transformation>
                <cart:upperleft_corner_x unit="m">6391349</cart:upperleft_corner_x>
                <cart:upperleft_corner_y unit="m">1403049.5</cart:upperleft_corner_y>
              </cart:Geo_Transformation>
            </cart:Planar>
            <cart:Geodetic_Model>
              <cart:latitude_type>Planetocentric</cart:latitude_type>
              <cart:spheroid_name>MARS</cart:spheroid_name>
              <cart:a_axis_radius unit="m">3393833.26075839996</cart:a_axis_radius>
              <cart:b_axis_radius unit="m">3393833.26075839996</cart:b_axis_radius>
              <cart:c_axis_radius unit="m">3393833.26075839996</cart:c_axis_radius>
              <cart:longitude_direction>Positive East</cart:longitude_direction>
            </cart:Geodetic_Model>
          </cart:Horizontal_Coordinate_System_Definition>
        </cart:Spatial_Reference_Information>
      </cart:Cartography>
      <geom:Geometry>
        <geom:Image_Display_Geometry>
          <geom:Display_Direction>
            <geom:horizontal_display_axis>Sample</geom:horizontal_display_axis>
            <geom:horizontal_display_direction>Left to Right</geom:horizontal_display_direction>
            <geom:vertical_display_axis>Line</geom:vertical_display_axis>
            <geom:vertical_display_direction>Top to Bottom</geom:vertical_display_direction>
          </geom:Display_Direction>
          <geom:Object_Orientation_North_East>
            <geom:north_azimuth unit="deg">270.000000</geom:north_azimuth>
            <geom:east_azimuth unit="deg">0</geom:east_azimuth>
            <geom:Reference_Frame_Identification>
              <geom:name>clockwise from right hand side</geom:name>
            </geom:Reference_Frame_Identification>
          </geom:Object_Orientation_North_East>
        </geom:Image_Display_Geometry>
        <geom:Geometry_Orbiter>
          <geom:geometry_start_time_utc>2025-08-06T19:58:37.773Z</geom:geometry_start_time_utc>
          <geom:geometry_stop_time_utc>2025-08-06T19:58:40.675Z</geom:geometry_stop_time_utc>
          <geom:Surface_Geometry>
            <geom:Surface_Geometry_Specific>
              <geom:subsolar_azimuth unit="deg">187.469422</geom:subsolar_azimuth>
            </geom:Surface_Geometry_Specific>
          </geom:Surface_Geometry>
          <geom:Illumination_Geometry>
            <geom:Illumination_Specific>
              <geom:Reference_Pixel>
                <!-- This is the "center pixel" of the image, which is defined to be
                                     the position of the seam between the RED4 and RED5 detectors in the
                                     x-direction, and the middle line in the RED4 and RED5 detectors in the
                                     y-direction of the image. -->
                <geom:vertical_coordinate_pixel unit="pixel">9722</geom:vertical_coordinate_pixel>
                <geom:horizontal_coordinate_pixel unit="pixel">6572.5</geom:horizontal_coordinate_pixel>
              </geom:Reference_Pixel>
              <geom:emission_angle unit="deg">19.014154</geom:emission_angle>
              <geom:incidence_angle unit="deg">46.492752</geom:incidence_angle>
              <geom:phase_angle unit="deg">64.987876</geom:phase_angle>
            </geom:Illumination_Specific>
          </geom:Illumination_Geometry>
        </geom:Geometry_Orbiter>
      </geom:Geometry>
      <disp:Display_Settings>
        <Local_Internal_Reference>
          <local_identifier_reference>Array_2D_Image</local_identifier_reference>
          <local_reference_type>display_settings_to_array</local_reference_type>
        </Local_Internal_Reference>
        <disp:Display_Direction>
          <disp:horizontal_display_axis>Sample</disp:horizontal_display_axis>
          <disp:horizontal_display_direction>Left to Right</disp:horizontal_display_direction>
          <disp:vertical_display_axis>Line</disp:vertical_display_axis>
          <disp:vertical_display_direction>Top to Bottom</disp:vertical_display_direction>
        </disp:Display_Direction>
      </disp:Display_Settings>
    </Discipline_Area>
  </Observation_Area>
  <Reference_List>
    <Internal_Reference>
      <lid_reference>urn:nasa:pds:mro_hirise:document:hirise_rdr_sis</lid_reference>
      <reference_type>data_to_document</reference_type>
      <comment>documentation and citation(s) for this data product</comment>
    </Internal_Reference>
    <External_Reference>
      <doi>10.1029/2005JE002605</doi>
      <reference_text>McEwen, Alfred S. ; Eliason, Eric M. ; Bergstrom, James W. ; 
                Bridges, Nathan T. ; Hansen, Candice J. ; Delamere, W. Alan ; Grant, John A. ; 
                Gulick, Virginia C. ; Herkenhoff, Kenneth E. ; Keszthelyi, Laszlo ; 
                Kirk, Randolph L. ; Mellon, Michael T. ; Squyres, Steven W. ; Thomas, Nicolas ; 
                Weitz, Catherine M. (2007) Mars Reconnaissance Orbiter's High Resolution Imaging Science 
                Experiment (HiRISE) Journal of Geophysical Research, Volume 112, Issue E5
            </reference_text>
      <description>instrument overview</description>
    </External_Reference>
  </Reference_List>
  <File_Area_Observational>
    <File>
      <file_name>ESP_089200_2040_RED.tif</file_name>
      <local_identifier>DATA_FILE</local_identifier>
      <creation_date_time>2025-08-14T01:56:32Z</creation_date_time>
      <file_size unit="byte">511300257</file_size>
    </File>
    <Header>
      <offset unit="byte">0</offset>
      <object_length unit="byte">117497</object_length>
      <parsing_standard_id>TIFF 6.0</parsing_standard_id>
      <description>TIFF/GeoTIFF header. The TIFF/GeoTIFF format is used throughout the geospatial and science communities to share geographic image data. </description>
    </Header>
    <Array_3D_Image>
      <local_identifier>Array_2D_Image</local_identifier>
      <offset unit="byte">117497</offset>
      <axes>3</axes>
      <axis_index_order>Last Index Fastest</axis_index_order>
      <Element_Array>
        <data_type>UnsignedLSB2</data_type>
        <scaling_factor>7.65088408644400955e-05</scaling_factor>
        <value_offset>0.0451694734774069975</value_offset>
      </Element_Array>
      <Axis_Array>
        <axis_name>Band</axis_name>
        <elements>1</elements>
        <sequence_number>1</sequence_number>
      </Axis_Array>
      <Axis_Array>
        <axis_name>Line</axis_name>
        <elements>19444</elements>
        <sequence_number>2</sequence_number>
